BEGIN:VCALENDAR
VERSION:2.0
PRODID:-//ChamberMaster//Event Calendar 2.0//EN
METHOD:PUBLISH
X-PUBLISHED-TTL:P3D
REFRESH-INTERVAL:P3D
CALSCALE:GREGORIAN
BEGIN:VEVENT
DTSTART:20250510T210000Z
DTEND:20250511T020000Z
X-MICROSOFT-CDO-ALLDAYEVENT:FALSE
SUMMARY:SHIFT 2025
DESCRIPTION:The best fundraiser in Butler County returns this year on Saturday\, May 10th! Join us for a rave-inspired vibe that so many of you love complete with casual\, neon\, and LED-adorned attire. Here's what's new for 2025: an After-Party! Once the main event concludes\, stick around as the intensity steps up for an unforgettable late-night experience. You won't want to miss it!\n\n\n\nWhat can you expect? Live art! Watch stunning art come to life before your eyes. There will be many interactive activities that are hands-on and fun for all ages. There will be dancing and performances where you can groove to the beats of guest DJs and performers. We will have delicious food and beverage options to fuel the fun. This event is an immersive experience. Whether you want to dive into the action or enjoy it from the sidelines\, SHIFT is for everyone.\n\n\n\nWhen we talk about SHIFT\, it has a couple of different meanings. First\, our guest DJs and performers will be SHIFTing energy throughout the evening via their music and event lighting. It will begin as a serene experience for people with sensory sensitivities and will gradually build in tempo and intensity throughout the night. The second meaning is SHIFTing mindsets around what people with disabilities can do. At InsideOut\, we focus on abilities and broadening skill sets so people with disabilities can gain independence and make their own income.
X-ALT-DESC;FMTTYPE=text/html:<div><span style="font-size:14px"><span style="color:rgb(0\, 0\, 0)\; font-family:matter\,sans-serif">The best fundraiser in Butler County returns this year on Saturday\, May 10th! Join us for a rave-inspired vibe that so many of you love&mdash\;complete with casual\, neon\, and LED-adorned attire. Here&rsquo\;s what&rsquo\;s new for 2025: an After-Party! Once the main event concludes\, stick around as the intensity steps up for an unforgettable late-night experience. You won&rsquo\;t want to miss it!<br />\n<br />\nWhat can you expect? Live art! Watch stunning art come to life before your eyes. There will be many interactive activities that are hands-on and fun for all ages. There will be dancing and performances where you can groove to the beats of guest DJs and performers. We will have delicious food and beverage options to fuel the fun. This event is an immersive experience. Whether you want to dive into the action or enjoy it from the sidelines\, SHIFT is for everyone.<br />\n<br />\nWhen we talk about SHIFT\, it has a couple of different meanings. First\, our guest DJs and performers will be SHIFTing energy throughout the evening via their music and event lighting. It will begin as a serene experience for people with sensory sensitivities and will gradually build in tempo and intensity throughout the night. The second meaning is SHIFTing mindsets around what people with disabilities can do. At InsideOut\, we focus on abilities and broadening skill sets so people with disabilities can gain independence and make their own income.</span></span></div>\n
LOCATION:Butler County Fairgrounds Event Center 1715 Fairgrove Ave\, Hamilton\, OH 45011
UID:e.2402.7642
SEQUENCE:3
DTSTAMP:20260423T073007Z
URL:http://hamiltonohio.chambermaster.com/events/details/shift-2025-7642
END:VEVENT

END:VCALENDAR
