BEGIN:VCALENDAR
VERSION:2.0
PRODID:-//ChamberMaster//Event Calendar 2.0//EN
METHOD:PUBLISH
X-PUBLISHED-TTL:P3D
REFRESH-INTERVAL:P3D
CALSCALE:GREGORIAN
BEGIN:VEVENT
DTSTART:20241115T230000Z
DTEND:20250106T020000Z
X-MICROSOFT-CDO-ALLDAYEVENT:FALSE
SUMMARY:Pyramid Hill Lights
DESCRIPTION:No holiday season is complete without a visit to the Pyramid Hill Light show. Our unique art and nature filled route is lit up by installations by local artists and over one million lights. The whole family is invited to this drive through holiday experience.
X-ALT-DESC;FMTTYPE=text/html:No holiday season is complete without a visit to the Pyramid Hill Light show. Our unique art and nature filled route is lit up by installations by local artists and over one million lights. The whole family is invited to this drive through holiday experience.
LOCATION:Pyramid Hill Sculpture Park and Museum 1763 Hamilton Cleves Road\, Hamilton\, OH 45013
UID:e.2402.6746
SEQUENCE:3
DTSTAMP:20260425T032216Z
URL:http://hamiltonohio.chambermaster.com/events/details/pyramid-hill-lights-6746
END:VEVENT

END:VCALENDAR
