BEGIN:VCALENDAR
VERSION:2.0
PRODID:-//ChamberMaster//Event Calendar 2.0//EN
METHOD:PUBLISH
X-PUBLISHED-TTL:P3D
REFRESH-INTERVAL:P3D
CALSCALE:GREGORIAN
BEGIN:VEVENT
DTSTART:20250502T220000Z
DTEND:20250503T000000Z
X-MICROSOFT-CDO-ALLDAYEVENT:FALSE
SUMMARY:Ink & Drink
DESCRIPTION:Unwind and let your creative side out at our happy hour ink and drink! Sip on specialty drinks inspired by nature as you draw freely in the great outdoors. Or just come to chat\, enjoy the scenery\, and learn a thing or two about art and nature!
X-ALT-DESC;FMTTYPE=text/html:Unwind and let your creative side out at our happy hour ink and drink! Sip on specialty drinks inspired by nature as you draw freely in the great outdoors. Or just come to chat\, enjoy the scenery\, and learn a thing or two about art and nature!
LOCATION:1763 Hamilton Cleves Rd\, Hamilton\, OH 45013
UID:e.2402.7658
SEQUENCE:3
DTSTAMP:20260423T060854Z
URL:http://hamiltonohio.chambermaster.com/events/details/ink-drink-7658
END:VEVENT

END:VCALENDAR
