BEGIN:VCALENDAR
VERSION:2.0
PRODID:-//ChamberMaster//Event Calendar 2.0//EN
METHOD:PUBLISH
X-PUBLISHED-TTL:P3D
REFRESH-INTERVAL:P3D
CALSCALE:GREGORIAN
BEGIN:VEVENT
DTSTART:20250510T140000Z
DTEND:20250510T080000Z
X-MICROSOFT-CDO-ALLDAYEVENT:FALSE
SUMMARY:Hamilton Flea + Second Saturday
DESCRIPTION:Explore Hamilton on Second Saturday's!\n\nMark your calendars for Second Saturday in Hamilton\, Ohio   an exciting monthly event celebrating shopping\, dining\, and the vibrant local scene! Every second Saturday of the month\, the Hamilton Flea comes alive\, bringing together local artisans\, food vendors\, and creators in the heart of downtown Hamilton. But that's not all!\n\nShop\, Dine\, and Explore\n\nSecond Saturday offers an opportunity to explore Hamilton's charming downtown\, where unique shops and restaurants await. Whether you're on the hunt for handcrafted goods\, a delicious bite to eat\, or just a fun day out with friends and family\, Second Saturday has it all.\n\nSpecial Highlights Include:\n\n*The Hamilton Flea   Local vendors\, fresh finds\, and one-of-a-kind treasures in Marcum Park\, 116 Dayton Street\, Hamilton OH 45011 from 10am-4pm!\n\n*Shopping Unique Stores   Enjoy promotions and unique finds in shops across town!\n\n*Dining Delights   Savor mouthwatering meals\, from coffee and pastries to full-course dishes\, all while supporting local restaurants.\n\nWhen: The second Saturday of each month\n\nWhere: Hamilton\, Ohio\n\nTime:10am - 4pm\n\nCome for the Flea\, stay for the local charm\, and discover the best of what Hamilton has to offer! Don't miss out on Second Saturday   your perfect weekend adventure in Hamilton!
X-ALT-DESC;FMTTYPE=text/html:<div class="xdj266r x11i5rnm xat24cr x1mh8g0r x1vvkbs" style="margin: 0px\; overflow-wrap: break-word\; font-family: &quot\;Segoe UI Historic&quot\;\, &quot\;Segoe UI&quot\;\, Helvetica\, Arial\, sans-serif\; color: rgb(8\, 8\, 9)\; font-size: 15px\; animation-name: none !important\; transition-property: none !important\;">Explore Hamilton on Second Saturday&#39\;s!</div>\n\n<div class="x11i5rnm xat24cr x1mh8g0r x1vvkbs xtlvy1s" style="margin: 0.5em 0px 0px\; overflow-wrap: break-word\; font-family: &quot\;Segoe UI Historic&quot\;\, &quot\;Segoe UI&quot\;\, Helvetica\, Arial\, sans-serif\; color: rgb(8\, 8\, 9)\; font-size: 15px\; animation-name: none !important\; transition-property: none !important\;">Mark your calendars for Second Saturday in Hamilton\, Ohio &ndash\; an exciting monthly event celebrating shopping\, dining\, and the vibrant local scene! Every second Saturday of the month\, the Hamilton Flea comes alive\, bringing together local artisans\, food vendors\, and creators in the heart of downtown Hamilton. But that&rsquo\;s not all!</div>\n\n<div class="x11i5rnm xat24cr x1mh8g0r x1vvkbs xtlvy1s" style="margin: 0.5em 0px 0px\; overflow-wrap: break-word\; font-family: &quot\;Segoe UI Historic&quot\;\, &quot\;Segoe UI&quot\;\, Helvetica\, Arial\, sans-serif\; color: rgb(8\, 8\, 9)\; font-size: 15px\; animation-name: none !important\; transition-property: none !important\;">Shop\, Dine\, and Explore<br class="html-br" style="animation-name: none !important\; transition-property: none !important\;" />\nSecond Saturday offers an opportunity to explore Hamilton&rsquo\;s charming downtown\, where unique shops and restaurants await. Whether you&rsquo\;re on the hunt for handcrafted goods\, a delicious bite to eat\, or just a fun day out with friends and family\, Second Saturday has it all.</div>\n\n<div class="x11i5rnm xat24cr x1mh8g0r x1vvkbs xtlvy1s" style="margin: 0.5em 0px 0px\; overflow-wrap: break-word\; font-family: &quot\;Segoe UI Historic&quot\;\, &quot\;Segoe UI&quot\;\, Helvetica\, Arial\, sans-serif\; color: rgb(8\, 8\, 9)\; font-size: 15px\; animation-name: none !important\; transition-property: none !important\;">Special Highlights Include:<br class="html-br" style="animation-name: none !important\; transition-property: none !important\;" />\n*The Hamilton Flea &ndash\; Local vendors\, fresh finds\, and one-of-a-kind treasures in Marcum Park\, 116 Dayton Street\, Hamilton OH 45011 from&nbsp\;10am-4pm!</div>\n\n<div class="x11i5rnm xat24cr x1mh8g0r x1vvkbs xtlvy1s" style="margin: 0.5em 0px 0px\; overflow-wrap: break-word\; font-family: &quot\;Segoe UI Historic&quot\;\, &quot\;Segoe UI&quot\;\, Helvetica\, Arial\, sans-serif\; color: rgb(8\, 8\, 9)\; font-size: 15px\; animation-name: none !important\; transition-property: none !important\;">*Shopping Unique Stores &ndash\; Enjoy promotions and unique finds in shops across town!</div>\n\n<div class="x11i5rnm xat24cr x1mh8g0r x1vvkbs xtlvy1s" style="margin: 0.5em 0px 0px\; overflow-wrap: break-word\; font-family: &quot\;Segoe UI Historic&quot\;\, &quot\;Segoe UI&quot\;\, Helvetica\, Arial\, sans-serif\; color: rgb(8\, 8\, 9)\; font-size: 15px\; animation-name: none !important\; transition-property: none !important\;">*Dining Delights &ndash\; Savor mouthwatering meals\, from coffee and pastries to full-course dishes\, all while supporting local restaurants.</div>\n\n<div class="x11i5rnm xat24cr x1mh8g0r x1vvkbs xtlvy1s" style="margin: 0.5em 0px 0px\; overflow-wrap: break-word\; font-family: &quot\;Segoe UI Historic&quot\;\, &quot\;Segoe UI&quot\;\, Helvetica\, Arial\, sans-serif\; color: rgb(8\, 8\, 9)\; font-size: 15px\; animation-name: none !important\; transition-property: none !important\;">When: The second Saturday of each month<br class="html-br" style="animation-name: none !important\; transition-property: none !important\;" />\nWhere: Hamilton\, Ohio<br class="html-br" style="animation-name: none !important\; transition-property: none !important\;" />\nTime:10am - 4pm</div>\n\n<div class="x11i5rnm xat24cr x1mh8g0r x1vvkbs xtlvy1s" style="margin: 0.5em 0px 0px\; overflow-wrap: break-word\; font-family: &quot\;Segoe UI Historic&quot\;\, &quot\;Segoe UI&quot\;\, Helvetica\, Arial\, sans-serif\; color: rgb(8\, 8\, 9)\; font-size: 15px\; animation-name: none !important\; transition-property: none !important\;">Come for the Flea\, stay for the local charm\, and discover the best of what Hamilton has to offer! Don&rsquo\;t miss out on Second Saturday &ndash\; your perfect weekend adventure in Hamilton!</div>\n
LOCATION:
UID:e.2402.7720
SEQUENCE:3
DTSTAMP:20260424T084600Z
URL:http://hamiltonohio.chambermaster.com/events/details/hamilton-flea-second-saturday-7720
END:VEVENT

END:VCALENDAR
