BEGIN:VCALENDAR
VERSION:2.0
PRODID:-//ChamberMaster//Event Calendar 2.0//EN
METHOD:PUBLISH
X-PUBLISHED-TTL:P3D
REFRESH-INTERVAL:P3D
CALSCALE:GREGORIAN
BEGIN:VEVENT
DTSTART:20250303T220000Z
DTEND:20250304T030000Z
X-MICROSOFT-CDO-ALLDAYEVENT:FALSE
SUMMARY:FIT Wellness
DESCRIPTION:Our brand-new event\, FIT Wellness\, will be an exciting night of fast-paced fun and friendly competition as we launch our Minute-to-Win-it Challenge\, proudly presented by Pinball Garage. Join us to celebrate the launch of Inclusive Wellness and Developmental Disabilities Awareness Month.\n\n\n\nA ticket to attend this event will cost $35\, which will include heavy apps\, pizza\, and pinball! Feeling competitive?? Team up! Gather a group of four for an entry fee of $100 per team and compete for a chance to win incredible prizes. We're setting up unique game stations where each team member will tackle the challenges in a scramble format. Complete each task in under a minute for maximum points. Mark your calendars and get ready! Don't miss out on the fun and the chance to make a difference.\n\n\n\nGather your friends\, register your team\, and come prepared to play\, compete\, and celebrate.
X-ALT-DESC;FMTTYPE=text/html:<span style="font-size:14px"><span style="color:rgb(0\, 0\, 0)\; font-family:matter\,sans-serif">Our brand-new event\, FIT Wellness\, will be an exciting night of fast-paced fun and friendly competition as we launch our Minute-to-Win-it Challenge\, proudly presented by Pinball Garage. Join us to celebrate the launch of Inclusive Wellness and Developmental Disabilities Awareness Month.<br />\n<br />\nA ticket to attend this event will cost $35\, which will include heavy apps\, pizza\, and pinball! Feeling competitive?? Team up! Gather a group of four for an entry fee of $100 per team and compete for a chance to win incredible prizes. We&rsquo\;re setting up unique game stations where each team member will tackle the challenges in a scramble format. Complete each task in under a minute for maximum points. Mark your calendars and get ready! Don&rsquo\;t miss out on the fun and the chance to make a difference.<br />\n<br />\nGather your friends\, register your team\, and come prepared to play\, compete\, and celebrate.</span></span>
LOCATION:Pinball Garage 113 N. 3rd St. Hamilton\, Ohio. 45011
UID:e.2402.7635
SEQUENCE:3
DTSTAMP:20260425T145428Z
URL:http://hamiltonohio.chambermaster.com/events/details/fit-wellness-7635
END:VEVENT

END:VCALENDAR
