BEGIN:VCALENDAR
VERSION:2.0
PRODID:-//ChamberMaster//Event Calendar 2.0//EN
METHOD:PUBLISH
X-PUBLISHED-TTL:P3D
REFRESH-INTERVAL:P3D
CALSCALE:GREGORIAN
BEGIN:VEVENT
DTSTART:20250402T140000Z
DTEND:20250430T220000Z
X-MICROSOFT-CDO-ALLDAYEVENT:FALSE
SUMMARY:Easter Egg Paperweight
DESCRIPTION:Are you looking for a fun and unique way to celebrate Easter? Then visit Neusole Glassworks and make an Easter Egg Paperweight! With help from our professional glass artists\, everyone\, 5 years and older can can sculpt an adorable Easter egg out of molten glass. They'll be ready for pickup in 7 days. Experience the wonder that is glass art this spring with your loved ones!
X-ALT-DESC;FMTTYPE=text/html:Are you looking for a fun and unique way to celebrate Easter? Then visit Neusole Glassworks and make an Easter Egg Paperweight! With help from our professional glass artists\, everyone\, 5 years and older can can sculpt an adorable Easter egg out of molten glass. They&#39\;ll be ready for pickup in 7 days. Experience the wonder that is glass art this spring with your loved ones!
LOCATION:Neusole Glassworks 11925 Kemper Springs Drive Cincinnati\, OH 45240
UID:e.2402.7662
SEQUENCE:3
DTSTAMP:20260423T040442Z
URL:http://hamiltonohio.chambermaster.com/events/details/easter-egg-paperweight-7662
END:VEVENT

END:VCALENDAR
