BEGIN:VCALENDAR
VERSION:2.0
PRODID:-//ChamberMaster//Event Calendar 2.0//EN
METHOD:PUBLISH
X-PUBLISHED-TTL:P3D
REFRESH-INTERVAL:P3D
CALSCALE:GREGORIAN
BEGIN:VEVENT
DTSTART:20250614T230000Z
DTEND:20250615T020000Z
X-MICROSOFT-CDO-ALLDAYEVENT:FALSE
SUMMARY:Dinner En Block
DESCRIPTION:Imagine a warm summer NIGHT\, the air buzzing with anticipation. Guests\, all dressed in elegant white\, gathering under the glow of candlelight. Laughter and conversation ripple through the streets Glasses clink\, quiet music plays\, friendships form\, and two neighborhoods once divided by train tracks come together for an unforgettable EVENING of community and culture. Now\, Don't just imagine it---Experience it with us. -Adults Only -FREE upscale community picnic for the -Dayton Lane and German Village community members -Live music and local bites provided Semi-Formal dress -Wear white with touches of black -Come ready for conversation and to create community Register here: https://tinyurl.com/Dinner-En-Block -Bring something to share\, too! Register to receive hints for our surprise location and save your space
X-ALT-DESC;FMTTYPE=text/html:Imagine a warm summer NIGHT\, the air buzzing with anticipation. Guests\, all dressed in elegant white\, gathering under the glow of candlelight. Laughter and conversation ripple through the streets Glasses clink\, quiet music plays\, friendships form\, and two neighborhoods&mdash\;once divided by train tracks&mdash\;come together for an unforgettable EVENING of community and culture. Now\, Don&rsquo\;t just imagine it---Experience it with us. -Adults Only -FREE upscale community picnic for the -Dayton Lane and German Village community members -Live music and local bites provided Semi-Formal dress -Wear white with touches of black -Come ready for conversation and to create community Register here: https://tinyurl.com/Dinner-En-Block -Bring something to share\, too! Register to receive hints for our surprise location and save your space
LOCATION:Secret Location\, Clues with Registration
UID:e.2402.7726
SEQUENCE:3
DTSTAMP:20260423T060208Z
URL:http://hamiltonohio.chambermaster.com/events/details/dinner-en-block-7726
END:VEVENT

END:VCALENDAR
