BEGIN:VCALENDAR
VERSION:2.0
PRODID:-//ChamberMaster//Event Calendar 2.0//EN
METHOD:PUBLISH
X-PUBLISHED-TTL:P3D
REFRESH-INTERVAL:P3D
CALSCALE:GREGORIAN
BEGIN:VEVENT
DTSTART:20260318T230000Z
DTEND:20260319T010000Z
X-MICROSOFT-CDO-ALLDAYEVENT:FALSE
SUMMARY:Contractor Roundtable
DESCRIPTION:Join us for a contractor roundtable hosted in partnership with the Greater Hamilton Chamber of Commerce and Dustin Bower of Reputable Roofing and Remodeling\, bringing together local experience\, practical insight\, and forward looking conversation in a collaborative\, welcoming setting.\n\nThe Contractor Roundtable is a chance to connect\, share ideas\, and talk openly about the challenges and opportunities facing contractors today.\n\nThis event will include interactive discussion and will bring contractors together to talk about shared challenges\, emerging trends\, and solutions that support growth and success in our local market.\n\nThe goal is simple: create space for real conversation\, idea sharing\, and relationship building with others working in and around the construction industry.\n\n\n\nThis event will be hosted at Reputable Roofing and Remodeling\, 1188 Pyramid Hill Blvd. Hamilton OH 45013.\n\n \n\nThis event is open to owners\, managers and leadership-level professionals working in any construction industry and related businesses.
X-ALT-DESC;FMTTYPE=text/html:Join us for a contractor roundtable hosted in partnership with the Greater Hamilton Chamber of Commerce and Dustin Bower of Reputable Roofing and Remodeling\, bringing together local experience\, practical insight\, and forward&#8209\;looking conversation in a collaborative\, welcoming setting.<br />\nThe Contractor Roundtable is a chance to connect\, share ideas\, and talk openly about the challenges and opportunities facing contractors today.<br />\nThis event will include interactive discussion and will bring contractors together to talk about shared challenges\, emerging trends\, and solutions that support growth and success in our local market.<br />\nThe goal is simple: create space for real conversation\, idea sharing\, and relationship building with others working in and around the construction industry.<br />\n<br />\nThis event will be hosted at Reputable Roofing and Remodeling\, 1188 Pyramid Hill Blvd. Hamilton OH 45013.<br />\n&nbsp\;<br />\nThis event is open to owners\, managers and leadership-level professionals working in any construction industry and related businesses.
LOCATION:
UID:e.2402.8127
SEQUENCE:3
DTSTAMP:20260420T184714Z
URL:http://hamiltonohio.chambermaster.com/events/details/contractor-roundtable-8127
END:VEVENT

END:VCALENDAR
